{"text_format":"3","workbook":"xlsx","n_sheets":4,"sheets":["Instruções","Licitações","Resumo","Listas"],"not_rendered":{"defined_names":1},"read":"whole","date_system":"1900"}

{"sheet":"Instruções","index":0,"n_rows":14,"n_cols":1,"rows_kept":14}
["Planilha de Controle de Licitações"]
["Material gratuito da F&G Seguro Garantia (fegsegurogarantia.com.br)"]
[]
["Como usar"]
["1. Na aba Licitações, preencha uma linha por edital. As colunas com fundo cinza (Nº, Dias até abertura, Valor da garantia de proposta e Valor da garantia contratual) são calculadas sozinhas, não digite nelas."]
["2. Modalidade, Status, Exige garantia de proposta? e Tipo de garantia a usar têm lista suspensa. Use sempre a lista para o Resumo funcionar."]
["3. Percentuais devem ser digitados como porcentagem (1% ou 0,01). Na Lei 14.133 a garantia de proposta é de até 1% do valor estimado (art. 58) e a garantia contratual, em regra, de até 5% (art. 98), podendo chegar a 10% em obras e serviços de engenharia de grande vulto."]
["4. A coluna Dias até abertura fica vermelha quando faltam 3 dias ou menos. Se o edital exige seguro garantia de proposta, esse é o prazo para pedir a apólice."]
["5. A aba Resumo consolida quantidade e valor por status, taxa de vitória e o total de garantias que você vai precisar contratar."]
["6. A linha 2 é um exemplo preenchido. Apague ou substitua pelos seus dados."]
[]
["Atenção: validade da proposta, garantia de proposta e garantia contratual são coisas diferentes. A garantia de proposta cobre a fase da licitação; a contratual só é emitida depois da assinatura do contrato, em nova apólice."]
[]
["Precisa cotar uma garantia de proposta ou contratual? Fale com a F&G pelo WhatsApp (15) 99861-8659. Corretora registrada na SUSEP (registro 242160653), painel com mais de 25 seguradoras."]

{"sheet":"Licitações","index":1,"n_rows":201,"n_cols":20,"rows_kept":201}
["Nº","Órgão / Entidade","Portal / UASG","Modalidade","Nº do edital","Objeto (resumo)","Valor estimado (R$)","Data de abertura","Hora","Dias até abertura","Status","Exige garantia de proposta?","% garantia de proposta","Valor da garantia de proposta (R$)","Tipo de garantia a usar","Validade da proposta (dias)","% garantia contratual","Valor da garantia contratual (R$)","Responsável","Observações"]
[{"$f":"IF(B2=\"\",\"\",ROW()-1)","v":1},"Prefeitura Municipal de Boituva","PNCP","Pregão eletrônico","PE 045/2026","Reforma e ampliação de unidade básica de saúde",{"v":850000,"d":"R$ 850,000.00"},"2026-09-11","09:00:00",{"$f":"IF(H2=\"\",\"\",H2-TODAY())","v":12},"Vou participar","Sim",{"v":0.01,"d":"1.00%"},{"$f":"IF(OR(L2<>\"Sim\",G2=\"\",M2=\"\"),\"\",G2*M2)","v":{"v":8500,"d":"R$ 8,500.00"}},"Seguro Garantia",60,{"v":0.05,"d":"5.00%"},{"$f":"IF(OR(G2=\"\",Q2=\"\"),\"\",G2*Q2)","v":{"v":42500,"d":"R$ 42,500.00"}},"Fábio","Edital exige atestado de capacidade técnica de obra similar"]
[{"$f":"IF(B3=\"\",\"\",ROW()-1)","v":""},{"$nulls":8},{"$f":"IF(H3=\"\",\"\",H3-TODAY())","v":""},{"$nulls":3},{"$f":"IF(OR(L3<>\"Sim\",G3=\"\",M3=\"\"),\"\",G3*M3)","v":""},{"$nulls":3},{"$f":"IF(OR(G3=\"\",Q3=\"\"),\"\",G3*Q3)","v":""}]
[{"$f":"IF(B4=\"\",\"\",ROW()-1)","v":""},{"$nulls":8},{"$f":"IF(H4=\"\",\"\",H4-TODAY())","v":""},{"$nulls":3},{"$f":"IF(OR(L4<>\"Sim\",G4=\"\",M4=\"\"),\"\",G4*M4)","v":""},{"$nulls":3},{"$f":"IF(OR(G4=\"\",Q4=\"\"),\"\",G4*Q4)","v":""}]
[{"$f":"IF(B5=\"\",\"\",ROW()-1)","v":""},{"$nulls":8},{"$f":"IF(H5=\"\",\"\",H5-TODAY())","v":""},{"$nulls":3},{"$f":"IF(OR(L5<>\"Sim\",G5=\"\",M5=\"\"),\"\",G5*M5)","v":""},{"$nulls":3},{"$f":"IF(OR(G5=\"\",Q5=\"\"),\"\",G5*Q5)","v":""}]
[{"$f":"IF(B6=\"\",\"\",ROW()-1)","v":""},{"$nulls":8},{"$f":"IF(H6=\"\",\"\",H6-TODAY())","v":""},{"$nulls":3},{"$f":"IF(OR(L6<>\"Sim\",G6=\"\",M6=\"\"),\"\",G6*M6)","v":""},{"$nulls":3},{"$f":"IF(OR(G6=\"\",Q6=\"\"),\"\",G6*Q6)","v":""}]
[{"$f":"IF(B7=\"\",\"\",ROW()-1)","v":""},{"$nulls":8},{"$f":"IF(H7=\"\",\"\",H7-TODAY())","v":""},{"$nulls":3},{"$f":"IF(OR(L7<>\"Sim\",G7=\"\",M7=\"\"),\"\",G7*M7)","v":""},{"$nulls":3},{"$f":"IF(OR(G7=\"\",Q7=\"\"),\"\",G7*Q7)","v":""}]
[{"$f":"IF(B8=\"\",\"\",ROW()-1)","v":""},{"$nulls":8},{"$f":"IF(H8=\"\",\"\",H8-TODAY())","v":""},{"$nulls":3},{"$f":"IF(OR(L8<>\"Sim\",G8=\"\",M8=\"\"),\"\",G8*M8)","v":""},{"$nulls":3},{"$f":"IF(OR(G8=\"\",Q8=\"\"),\"\",G8*Q8)","v":""}]
[{"$f":"IF(B9=\"\",\"\",ROW()-1)","v":""},{"$nulls":8},{"$f":"IF(H9=\"\",\"\",H9-TODAY())","v":""},{"$nulls":3},{"$f":"IF(OR(L9<>\"Sim\",G9=\"\",M9=\"\"),\"\",G9*M9)","v":""},{"$nulls":3},{"$f":"IF(OR(G9=\"\",Q9=\"\"),\"\",G9*Q9)","v":""}]
[{"$f":"IF(B10=\"\",\"\",ROW()-1)","v":""},{"$nulls":8},{"$f":"IF(H10=\"\",\"\",H10-TODAY())","v":""},{"$nulls":3},{"$f":"IF(OR(L10<>\"Sim\",G10=\"\",M10=\"\"),\"\",G10*M10)","v":""},{"$nulls":3},{"$f":"IF(OR(G10=\"\",Q10=\"\"),\"\",G10*Q10)","v":""}]
[{"$f":"IF(B11=\"\",\"\",ROW()-1)","v":""},{"$nulls":8},{"$f":"IF(H11=\"\",\"\",H11-TODAY())","v":""},{"$nulls":3},{"$f":"IF(OR(L11<>\"Sim\",G11=\"\",M11=\"\"),\"\",G11*M11)","v":""},{"$nulls":3},{"$f":"IF(OR(G11=\"\",Q11=\"\"),\"\",G11*Q11)","v":""}]
[{"$f":"IF(B12=\"\",\"\",ROW()-1)","v":""},{"$nulls":8},{"$f":"IF(H12=\"\",\"\",H12-TODAY())","v":""},{"$nulls":3},{"$f":"IF(OR(L12<>\"Sim\",G12=\"\",M12=\"\"),\"\",G12*M12)","v":""},{"$nulls":3},{"$f":"IF(OR(G12=\"\",Q12=\"\"),\"\",G12*Q12)","v":""}]
[{"$f":"IF(B13=\"\",\"\",ROW()-1)","v":""},{"$nulls":8},{"$f":"IF(H13=\"\",\"\",H13-TODAY())","v":""},{"$nulls":3},{"$f":"IF(OR(L13<>\"Sim\",G13=\"\",M13=\"\"),\"\",G13*M13)","v":""},{"$nulls":3},{"$f":"IF(OR(G13=\"\",Q13=\"\"),\"\",G13*Q13)","v":""}]
[{"$f":"IF(B14=\"\",\"\",ROW()-1)","v":""},{"$nulls":8},{"$f":"IF(H14=\"\",\"\",H14-TODAY())","v":""},{"$nulls":3},{"$f":"IF(OR(L14<>\"Sim\",G14=\"\",M14=\"\"),\"\",G14*M14)","v":""},{"$nulls":3},{"$f":"IF(OR(G14=\"\",Q14=\"\"),\"\",G14*Q14)","v":""}]
[{"$f":"IF(B15=\"\",\"\",ROW()-1)","v":""},{"$nulls":8},{"$f":"IF(H15=\"\",\"\",H15-TODAY())","v":""},{"$nulls":3},{"$f":"IF(OR(L15<>\"Sim\",G15=\"\",M15=\"\"),\"\",G15*M15)","v":""},{"$nulls":3},{"$f":"IF(OR(G15=\"\",Q15=\"\"),\"\",G15*Q15)","v":""}]
[{"$f":"IF(B16=\"\",\"\",ROW()-1)","v":""},{"$nulls":8},{"$f":"IF(H16=\"\",\"\",H16-TODAY())","v":""},{"$nulls":3},{"$f":"IF(OR(L16<>\"Sim\",G16=\"\",M16=\"\"),\"\",G16*M16)","v":""},{"$nulls":3},{"$f":"IF(OR(G16=\"\",Q16=\"\"),\"\",G16*Q16)","v":""}]
[{"$f":"IF(B17=\"\",\"\",ROW()-1)","v":""},{"$nulls":8},{"$f":"IF(H17=\"\",\"\",H17-TODAY())","v":""},{"$nulls":3},{"$f":"IF(OR(L17<>\"Sim\",G17=\"\",M17=\"\"),\"\",G17*M17)","v":""},{"$nulls":3},{"$f":"IF(OR(G17=\"\",Q17=\"\"),\"\",G17*Q17)","v":""}]
[{"$f":"IF(B18=\"\",\"\",ROW()-1)","v":""},{"$nulls":8},{"$f":"IF(H18=\"\",\"\",H18-TODAY())","v":""},{"$nulls":3},{"$f":"IF(OR(L18<>\"Sim\",G18=\"\",M18=\"\"),\"\",G18*M18)","v":""},{"$nulls":3},{"$f":"IF(OR(G18=\"\",Q18=\"\"),\"\",G18*Q18)","v":""}]
[{"$f":"IF(B19=\"\",\"\",ROW()-1)","v":""},{"$nulls":8},{"$f":"IF(H19=\"\",\"\",H19-TODAY())","v":""},{"$nulls":3},{"$f":"IF(OR(L19<>\"Sim\",G19=\"\",M19=\"\"),\"\",G19*M19)","v":""},{"$nulls":3},{"$f":"IF(OR(G19=\"\",Q19=\"\"),\"\",G19*Q19)","v":""}]
[{"$f":"IF(B20=\"\",\"\",ROW()-1)","v":""},{"$nulls":8},{"$f":"IF(H20=\"\",\"\",H20-TODAY())","v":""},{"$nulls":3},{"$f":"IF(OR(L20<>\"Sim\",G20=\"\",M20=\"\"),\"\",G20*M20)","v":""},{"$nulls":3},{"$f":"IF(OR(G20=\"\",Q20=\"\"),\"\",G20*Q20)","v":""}]
[{"$f":"IF(B21=\"\",\"\",ROW()-1)","v":""},{"$nulls":8},{"$f":"IF(H21=\"\",\"\",H21-TODAY())","v":""},{"$nulls":3},{"$f":"IF(OR(L21<>\"Sim\",G21=\"\",M21=\"\"),\"\",G21*M21)","v":""},{"$nulls":3},{"$f":"IF(OR(G21=\"\",Q21=\"\"),\"\",G21*Q21)","v":""}]
[{"$f":"IF(B22=\"\",\"\",ROW()-1)","v":""},{"$nulls":8},{"$f":"IF(H22=\"\",\"\",H22-TODAY())","v":""},{"$nulls":3},{"$f":"IF(OR(L22<>\"Sim\",G22=\"\",M22=\"\"),\"\",G22*M22)","v":""},{"$nulls":3},{"$f":"IF(OR(G22=\"\",Q22=\"\"),\"\",G22*Q22)","v":""}]
[{"$f":"IF(B23=\"\",\"\",ROW()-1)","v":""},{"$nulls":8},{"$f":"IF(H23=\"\",\"\",H23-TODAY())","v":""},{"$nulls":3},{"$f":"IF(OR(L23<>\"Sim\",G23=\"\",M23=\"\"),\"\",G23*M23)","v":""},{"$nulls":3},{"$f":"IF(OR(G23=\"\",Q23=\"\"),\"\",G23*Q23)","v":""}]
[{"$f":"IF(B24=\"\",\"\",ROW()-1)","v":""},{"$nulls":8},{"$f":"IF(H24=\"\",\"\",H24-TODAY())","v":""},{"$nulls":3},{"$f":"IF(OR(L24<>\"Sim\",G24=\"\",M24=\"\"),\"\",G24*M24)","v":""},{"$nulls":3},{"$f":"IF(OR(G24=\"\",Q24=\"\"),\"\",G24*Q24)","v":""}]
[{"$f":"IF(B25=\"\",\"\",ROW()-1)","v":""},{"$nulls":8},{"$f":"IF(H25=\"\",\"\",H25-TODAY())","v":""},{"$nulls":3},{"$f":"IF(OR(L25<>\"Sim\",G25=\"\",M25=\"\"),\"\",G25*M25)","v":""},{"$nulls":3},{"$f":"IF(OR(G25=\"\",Q25=\"\"),\"\",G25*Q25)","v":""}]
[{"$f":"IF(B26=\"\",\"\",ROW()-1)","v":""},{"$nulls":8},{"$f":"IF(H26=\"\",\"\",H26-TODAY())","v":""},{"$nulls":3},{"$f":"IF(OR(L26<>\"Sim\",G26=\"\",M26=\"\"),\"\",G26*M26)","v":""},{"$nulls":3},{"$f":"IF(OR(G26=\"\",Q26=\"\"),\"\",G26*Q26)","v":""}]
[{"$f":"IF(B27=\"\",\"\",ROW()-1)","v":""},{"$nulls":8},{"$f":"IF(H27=\"\",\"\",H27-TODAY())","v":""},{"$nulls":3},{"$f":"IF(OR(L27<>\"Sim\",G27=\"\",M27=\"\"),\"\",G27*M27)","v":""},{"$nulls":3},{"$f":"IF(OR(G27=\"\",Q27=\"\"),\"\",G27*Q27)","v":""}]
[{"$f":"IF(B28=\"\",\"\",ROW()-1)","v":""},{"$nulls":8},{"$f":"IF(H28=\"\",\"\",H28-TODAY())","v":""},{"$nulls":3},{"$f":"IF(OR(L28<>\"Sim\",G28=\"\",M28=\"\"),\"\",G28*M28)","v":""},{"$nulls":3},{"$f":"IF(OR(G28=\"\",Q28=\"\"),\"\",G28*Q28)","v":""}]
[{"$f":"IF(B29=\"\",\"\",ROW()-1)","v":""},{"$nulls":8},{"$f":"IF(H29=\"\",\"\",H29-TODAY())","v":""},{"$nulls":3},{"$f":"IF(OR(L29<>\"Sim\",G29=\"\",M29=\"\"),\"\",G29*M29)","v":""},{"$nulls":3},{"$f":"IF(OR(G29=\"\",Q29=\"\"),\"\",G29*Q29)","v":""}]
[{"$f":"IF(B30=\"\",\"\",ROW()-1)","v":""},{"$nulls":8},{"$f":"IF(H30=\"\",\"\",H30-TODAY())","v":""},{"$nulls":3},{"$f":"IF(OR(L30<>\"Sim\",G30=\"\",M30=\"\"),\"\",G30*M30)","v":""},{"$nulls":3},{"$f":"IF(OR(G30=\"\",Q30=\"\"),\"\",G30*Q30)","v":""}]
[{"$f":"IF(B31=\"\",\"\",ROW()-1)","v":""},{"$nulls":8},{"$f":"IF(H31=\"\",\"\",H31-TODAY())","v":""},{"$nulls":3},{"$f":"IF(OR(L31<>\"Sim\",G31=\"\",M31=\"\"),\"\",G31*M31)","v":""},{"$nulls":3},{"$f":"IF(OR(G31=\"\",Q31=\"\"),\"\",G31*Q31)","v":""}]
[{"$f":"IF(B32=\"\",\"\",ROW()-1)","v":""},{"$nulls":8},{"$f":"IF(H32=\"\",\"\",H32-TODAY())","v":""},{"$nulls":3},{"$f":"IF(OR(L32<>\"Sim\",G32=\"\",M32=\"\"),\"\",G32*M32)","v":""},{"$nulls":3},{"$f":"IF(OR(G32=\"\",Q32=\"\"),\"\",G32*Q32)","v":""}]
[{"$f":"IF(B33=\"\",\"\",ROW()-1)","v":""},{"$nulls":8},{"$f":"IF(H33=\"\",\"\",H33-TODAY())","v":""},{"$nulls":3},{"$f":"IF(OR(L33<>\"Sim\",G33=\"\",M33=\"\"),\"\",G33*M33)","v":""},{"$nulls":3},{"$f":"IF(OR(G33=\"\",Q33=\"\"),\"\",G33*Q33)","v":""}]
[{"$f":"IF(B34=\"\",\"\",ROW()-1)","v":""},{"$nulls":8},{"$f":"IF(H34=\"\",\"\",H34-TODAY())","v":""},{"$nulls":3},{"$f":"IF(OR(L34<>\"Sim\",G34=\"\",M34=\"\"),\"\",G34*M34)","v":""},{"$nulls":3},{"$f":"IF(OR(G34=\"\",Q34=\"\"),\"\",G34*Q34)","v":""}]
[{"$f":"IF(B35=\"\",\"\",ROW()-1)","v":""},{"$nulls":8},{"$f":"IF(H35=\"\",\"\",H35-TODAY())","v":""},{"$nulls":3},{"$f":"IF(OR(L35<>\"Sim\",G35=\"\",M35=\"\"),\"\",G35*M35)","v":""},{"$nulls":3},{"$f":"IF(OR(G35=\"\",Q35=\"\"),\"\",G35*Q35)","v":""}]
[{"$f":"IF(B36=\"\",\"\",ROW()-1)","v":""},{"$nulls":8},{"$f":"IF(H36=\"\",\"\",H36-TODAY())","v":""},{"$nulls":3},{"$f":"IF(OR(L36<>\"Sim\",G36=\"\",M36=\"\"),\"\",G36*M36)","v":""},{"$nulls":3},{"$f":"IF(OR(G36=\"\",Q36=\"\"),\"\",G36*Q36)","v":""}]
[{"$f":"IF(B37=\"\",\"\",ROW()-1)","v":""},{"$nulls":8},{"$f":"IF(H37=\"\",\"\",H37-TODAY())","v":""},{"$nulls":3},{"$f":"IF(OR(L37<>\"Sim\",G37=\"\",M37=\"\"),\"\",G37*M37)","v":""},{"$nulls":3},{"$f":"IF(OR(G37=\"\",Q37=\"\"),\"\",G37*Q37)","v":""}]
[{"$f":"IF(B38=\"\",\"\",ROW()-1)","v":""},{"$nulls":8},{"$f":"IF(H38=\"\",\"\",H38-TODAY())","v":""},{"$nulls":3},{"$f":"IF(OR(L38<>\"Sim\",G38=\"\",M38=\"\"),\"\",G38*M38)","v":""},{"$nulls":3},{"$f":"IF(OR(G38=\"\",Q38=\"\"),\"\",G38*Q38)","v":""}]
[{"$f":"IF(B39=\"\",\"\",ROW()-1)","v":""},{"$nulls":8},{"$f":"IF(H39=\"\",\"\",H39-TODAY())","v":""},{"$nulls":3},{"$f":"IF(OR(L39<>\"Sim\",G39=\"\",M39=\"\"),\"\",G39*M39)","v":""},{"$nulls":3},{"$f":"IF(OR(G39=\"\",Q39=\"\"),\"\",G39*Q39)","v":""}]
[{"$f":"IF(B40=\"\",\"\",ROW()-1)","v":""},{"$nulls":8},{"$f":"IF(H40=\"\",\"\",H40-TODAY())","v":""},{"$nulls":3},{"$f":"IF(OR(L40<>\"Sim\",G40=\"\",M40=\"\"),\"\",G40*M40)","v":""},{"$nulls":3},{"$f":"IF(OR(G40=\"\",Q40=\"\"),\"\",G40*Q40)","v":""}]
[{"$f":"IF(B41=\"\",\"\",ROW()-1)","v":""},{"$nulls":8},{"$f":"IF(H41=\"\",\"\",H41-TODAY())","v":""},{"$nulls":3},{"$f":"IF(OR(L41<>\"Sim\",G41=\"\",M41=\"\"),\"\",G41*M41)","v":""},{"$nulls":3},{"$f":"IF(OR(G41=\"\",Q41=\"\"),\"\",G41*Q41)","v":""}]
[{"$f":"IF(B42=\"\",\"\",ROW()-1)","v":""},{"$nulls":8},{"$f":"IF(H42=\"\",\"\",H42-TODAY())","v":""},{"$nulls":3},{"$f":"IF(OR(L42<>\"Sim\",G42=\"\",M42=\"\"),\"\",G42*M42)","v":""},{"$nulls":3},{"$f":"IF(OR(G42=\"\",Q42=\"\"),\"\",G42*Q42)","v":""}]
[{"$f":"IF(B43=\"\",\"\",ROW()-1)","v":""},{"$nulls":8},{"$f":"IF(H43=\"\",\"\",H43-TODAY())","v":""},{"$nulls":3},{"$f":"IF(OR(L43<>\"Sim\",G43=\"\",M43=\"\"),\"\",G43*M43)","v":""},{"$nulls":3},{"$f":"IF(OR(G43=\"\",Q43=\"\"),\"\",G43*Q43)","v":""}]
[{"$f":"IF(B44=\"\",\"\",ROW()-1)","v":""},{"$nulls":8},{"$f":"IF(H44=\"\",\"\",H44-TODAY())","v":""},{"$nulls":3},{"$f":"IF(OR(L44<>\"Sim\",G44=\"\",M44=\"\"),\"\",G44*M44)","v":""},{"$nulls":3},{"$f":"IF(OR(G44=\"\",Q44=\"\"),\"\",G44*Q44)","v":""}]
[{"$f":"IF(B45=\"\",\"\",ROW()-1)","v":""},{"$nulls":8},{"$f":"IF(H45=\"\",\"\",H45-TODAY())","v":""},{"$nulls":3},{"$f":"IF(OR(L45<>\"Sim\",G45=\"\",M45=\"\"),\"\",G45*M45)","v":""},{"$nulls":3},{"$f":"IF(OR(G45=\"\",Q45=\"\"),\"\",G45*Q45)","v":""}]
[{"$f":"IF(B46=\"\",\"\",ROW()-1)","v":""},{"$nulls":8},{"$f":"IF(H46=\"\",\"\",H46-TODAY())","v":""},{"$nulls":3},{"$f":"IF(OR(L46<>\"Sim\",G46=\"\",M46=\"\"),\"\",G46*M46)","v":""},{"$nulls":3},{"$f":"IF(OR(G46=\"\",Q46=\"\"),\"\",G46*Q46)","v":""}]
[{"$f":"IF(B47=\"\",\"\",ROW()-1)","v":""},{"$nulls":8},{"$f":"IF(H47=\"\",\"\",H47-TODAY())","v":""},{"$nulls":3},{"$f":"IF(OR(L47<>\"Sim\",G47=\"\",M47=\"\"),\"\",G47*M47)","v":""},{"$nulls":3},{"$f":"IF(OR(G47=\"\",Q47=\"\"),\"\",G47*Q47)","v":""}]
[{"$f":"IF(B48=\"\",\"\",ROW()-1)","v":""},{"$nulls":8},{"$f":"IF(H48=\"\",\"\",H48-TODAY())","v":""},{"$nulls":3},{"$f":"IF(OR(L48<>\"Sim\",G48=\"\",M48=\"\"),\"\",G48*M48)","v":""},{"$nulls":3},{"$f":"IF(OR(G48=\"\",Q48=\"\"),\"\",G48*Q48)","v":""}]
[{"$f":"IF(B49=\"\",\"\",ROW()-1)","v":""},{"$nulls":8},{"$f":"IF(H49=\"\",\"\",H49-TODAY())","v":""},{"$nulls":3},{"$f":"IF(OR(L49<>\"Sim\",G49=\"\",M49=\"\"),\"\",G49*M49)","v":""},{"$nulls":3},{"$f":"IF(OR(G49=\"\",Q49=\"\"),\"\",G49*Q49)","v":""}]
[{"$f":"IF(B50=\"\",\"\",ROW()-1)","v":""},{"$nulls":8},{"$f":"IF(H50=\"\",\"\",H50-TODAY())","v":""},{"$nulls":3},{"$f":"IF(OR(L50<>\"Sim\",G50=\"\",M50=\"\"),\"\",G50*M50)","v":""},{"$nulls":3},{"$f":"IF(OR(G50=\"\",Q50=\"\"),\"\",G50*Q50)","v":""}]
[{"$f":"IF(B51=\"\",\"\",ROW()-1)","v":""},{"$nulls":8},{"$f":"IF(H51=\"\",\"\",H51-TODAY())","v":""},{"$nulls":3},{"$f":"IF(OR(L51<>\"Sim\",G51=\"\",M51=\"\"),\"\",G51*M51)","v":""},{"$nulls":3},{"$f":"IF(OR(G51=\"\",Q51=\"\"),\"\",G51*Q51)","v":""}]
[{"$f":"IF(B52=\"\",\"\",ROW()-1)","v":""},{"$nulls":8},{"$f":"IF(H52=\"\",\"\",H52-TODAY())","v":""},{"$nulls":3},{"$f":"IF(OR(L52<>\"Sim\",G52=\"\",M52=\"\"),\"\",G52*M52)","v":""},{"$nulls":3},{"$f":"IF(OR(G52=\"\",Q52=\"\"),\"\",G52*Q52)","v":""}]
[{"$f":"IF(B53=\"\",\"\",ROW()-1)","v":""},{"$nulls":8},{"$f":"IF(H53=\"\",\"\",H53-TODAY())","v":""},{"$nulls":3},{"$f":"IF(OR(L53<>\"Sim\",G53=\"\",M53=\"\"),\"\",G53*M53)","v":""},{"$nulls":3},{"$f":"IF(OR(G53=\"\",Q53=\"\"),\"\",G53*Q53)","v":""}]
[{"$f":"IF(B54=\"\",\"\",ROW()-1)","v":""},{"$nulls":8},{"$f":"IF(H54=\"\",\"\",H54-TODAY())","v":""},{"$nulls":3},{"$f":"IF(OR(L54<>\"Sim\",G54=\"\",M54=\"\"),\"\",G54*M54)","v":""},{"$nulls":3},{"$f":"IF(OR(G54=\"\",Q54=\"\"),\"\",G54*Q54)","v":""}]
[{"$f":"IF(B55=\"\",\"\",ROW()-1)","v":""},{"$nulls":8},{"$f":"IF(H55=\"\",\"\",H55-TODAY())","v":""},{"$nulls":3},{"$f":"IF(OR(L55<>\"Sim\",G55=\"\",M55=\"\"),\"\",G55*M55)","v":""},{"$nulls":3},{"$f":"IF(OR(G55=\"\",Q55=\"\"),\"\",G55*Q55)","v":""}]
[{"$f":"IF(B56=\"\",\"\",ROW()-1)","v":""},{"$nulls":8},{"$f":"IF(H56=\"\",\"\",H56-TODAY())","v":""},{"$nulls":3},{"$f":"IF(OR(L56<>\"Sim\",G56=\"\",M56=\"\"),\"\",G56*M56)","v":""},{"$nulls":3},{"$f":"IF(OR(G56=\"\",Q56=\"\"),\"\",G56*Q56)","v":""}]
[{"$f":"IF(B57=\"\",\"\",ROW()-1)","v":""},{"$nulls":8},{"$f":"IF(H57=\"\",\"\",H57-TODAY())","v":""},{"$nulls":3},{"$f":"IF(OR(L57<>\"Sim\",G57=\"\",M57=\"\"),\"\",G57*M57)","v":""},{"$nulls":3},{"$f":"IF(OR(G57=\"\",Q57=\"\"),\"\",G57*Q57)","v":""}]
[{"$f":"IF(B58=\"\",\"\",ROW()-1)","v":""},{"$nulls":8},{"$f":"IF(H58=\"\",\"\",H58-TODAY())","v":""},{"$nulls":3},{"$f":"IF(OR(L58<>\"Sim\",G58=\"\",M58=\"\"),\"\",G58*M58)","v":""},{"$nulls":3},{"$f":"IF(OR(G58=\"\",Q58=\"\"),\"\",G58*Q58)","v":""}]
[{"$f":"IF(B59=\"\",\"\",ROW()-1)","v":""},{"$nulls":8},{"$f":"IF(H59=\"\",\"\",H59-TODAY())","v":""},{"$nulls":3},{"$f":"IF(OR(L59<>\"Sim\",G59=\"\",M59=\"\"),\"\",G59*M59)","v":""},{"$nulls":3},{"$f":"IF(OR(G59=\"\",Q59=\"\"),\"\",G59*Q59)","v":""}]
[{"$f":"IF(B60=\"\",\"\",ROW()-1)","v":""},{"$nulls":8},{"$f":"IF(H60=\"\",\"\",H60-TODAY())","v":""},{"$nulls":3},{"$f":"IF(OR(L60<>\"Sim\",G60=\"\",M60=\"\"),\"\",G60*M60)","v":""},{"$nulls":3},{"$f":"IF(OR(G60=\"\",Q60=\"\"),\"\",G60*Q60)","v":""}]
[{"$f":"IF(B61=\"\",\"\",ROW()-1)","v":""},{"$nulls":8},{"$f":"IF(H61=\"\",\"\",H61-TODAY())","v":""},{"$nulls":3},{"$f":"IF(OR(L61<>\"Sim\",G61=\"\",M61=\"\"),\"\",G61*M61)","v":""},{"$nulls":3},{"$f":"IF(OR(G61=\"\",Q61=\"\"),\"\",G61*Q61)","v":""}]
[{"$f":"IF(B62=\"\",\"\",ROW()-1)","v":""},{"$nulls":8},{"$f":"IF(H62=\"\",\"\",H62-TODAY())","v":""},{"$nulls":3},{"$f":"IF(OR(L62<>\"Sim\",G62=\"\",M62=\"\"),\"\",G62*M62)","v":""},{"$nulls":3},{"$f":"IF(OR(G62=\"\",Q62=\"\"),\"\",G62*Q62)","v":""}]
[{"$f":"IF(B63=\"\",\"\",ROW()-1)","v":""},{"$nulls":8},{"$f":"IF(H63=\"\",\"\",H63-TODAY())","v":""},{"$nulls":3},{"$f":"IF(OR(L63<>\"Sim\",G63=\"\",M63=\"\"),\"\",G63*M63)","v":""},{"$nulls":3},{"$f":"IF(OR(G63=\"\",Q63=\"\"),\"\",G63*Q63)","v":""}]
[{"$f":"IF(B64=\"\",\"\",ROW()-1)","v":""},{"$nulls":8},{"$f":"IF(H64=\"\",\"\",H64-TODAY())","v":""},{"$nulls":3},{"$f":"IF(OR(L64<>\"Sim\",G64=\"\",M64=\"\"),\"\",G64*M64)","v":""},{"$nulls":3},{"$f":"IF(OR(G64=\"\",Q64=\"\"),\"\",G64*Q64)","v":""}]
[{"$f":"IF(B65=\"\",\"\",ROW()-1)","v":""},{"$nulls":8},{"$f":"IF(H65=\"\",\"\",H65-TODAY())","v":""},{"$nulls":3},{"$f":"IF(OR(L65<>\"Sim\",G65=\"\",M65=\"\"),\"\",G65*M65)","v":""},{"$nulls":3},{"$f":"IF(OR(G65=\"\",Q65=\"\"),\"\",G65*Q65)","v":""}]
[{"$f":"IF(B66=\"\",\"\",ROW()-1)","v":""},{"$nulls":8},{"$f":"IF(H66=\"\",\"\",H66-TODAY())","v":""},{"$nulls":3},{"$f":"IF(OR(L66<>\"Sim\",G66=\"\",M66=\"\"),\"\",G66*M66)","v":""},{"$nulls":3},{"$f":"IF(OR(G66=\"\",Q66=\"\"),\"\",G66*Q66)","v":""}]
[{"$f":"IF(B67=\"\",\"\",ROW()-1)","v":""},{"$nulls":8},{"$f":"IF(H67=\"\",\"\",H67-TODAY())","v":""},{"$nulls":3},{"$f":"IF(OR(L67<>\"Sim\",G67=\"\",M67=\"\"),\"\",G67*M67)","v":""},{"$nulls":3},{"$f":"IF(OR(G67=\"\",Q67=\"\"),\"\",G67*Q67)","v":""}]
[{"$f":"IF(B68=\"\",\"\",ROW()-1)","v":""},{"$nulls":8},{"$f":"IF(H68=\"\",\"\",H68-TODAY())","v":""},{"$nulls":3},{"$f":"IF(OR(L68<>\"Sim\",G68=\"\",M68=\"\"),\"\",G68*M68)","v":""},{"$nulls":3},{"$f":"IF(OR(G68=\"\",Q68=\"\"),\"\",G68*Q68)","v":""}]
[{"$f":"IF(B69=\"\",\"\",ROW()-1)","v":""},{"$nulls":8},{"$f":"IF(H69=\"\",\"\",H69-TODAY())","v":""},{"$nulls":3},{"$f":"IF(OR(L69<>\"Sim\",G69=\"\",M69=\"\"),\"\",G69*M69)","v":""},{"$nulls":3},{"$f":"IF(OR(G69=\"\",Q69=\"\"),\"\",G69*Q69)","v":""}]
[{"$f":"IF(B70=\"\",\"\",ROW()-1)","v":""},{"$nulls":8},{"$f":"IF(H70=\"\",\"\",H70-TODAY())","v":""},{"$nulls":3},{"$f":"IF(OR(L70<>\"Sim\",G70=\"\",M70=\"\"),\"\",G70*M70)","v":""},{"$nulls":3},{"$f":"IF(OR(G70=\"\",Q70=\"\"),\"\",G70*Q70)","v":""}]
[{"$f":"IF(B71=\"\",\"\",ROW()-1)","v":""},{"$nulls":8},{"$f":"IF(H71=\"\",\"\",H71-TODAY())","v":""},{"$nulls":3},{"$f":"IF(OR(L71<>\"Sim\",G71=\"\",M71=\"\"),\"\",G71*M71)","v":""},{"$nulls":3},{"$f":"IF(OR(G71=\"\",Q71=\"\"),\"\",G71*Q71)","v":""}]
[{"$f":"IF(B72=\"\",\"\",ROW()-1)","v":""},{"$nulls":8},{"$f":"IF(H72=\"\",\"\",H72-TODAY())","v":""},{"$nulls":3},{"$f":"IF(OR(L72<>\"Sim\",G72=\"\",M72=\"\"),\"\",G72*M72)","v":""},{"$nulls":3},{"$f":"IF(OR(G72=\"\",Q72=\"\"),\"\",G72*Q72)","v":""}]
[{"$f":"IF(B73=\"\",\"\",ROW()-1)","v":""},{"$nulls":8},{"$f":"IF(H73=\"\",\"\",H73-TODAY())","v":""},{"$nulls":3},{"$f":"IF(OR(L73<>\"Sim\",G73=\"\",M73=\"\"),\"\",G73*M73)","v":""},{"$nulls":3},{"$f":"IF(OR(G73=\"\",Q73=\"\"),\"\",G73*Q73)","v":""}]
[{"$f":"IF(B74=\"\",\"\",ROW()-1)","v":""},{"$nulls":8},{"$f":"IF(H74=\"\",\"\",H74-TODAY())","v":""},{"$nulls":3},{"$f":"IF(OR(L74<>\"Sim\",G74=\"\",M74=\"\"),\"\",G74*M74)","v":""},{"$nulls":3},{"$f":"IF(OR(G74=\"\",Q74=\"\"),\"\",G74*Q74)","v":""}]
[{"$f":"IF(B75=\"\",\"\",ROW()-1)","v":""},{"$nulls":8},{"$f":"IF(H75=\"\",\"\",H75-TODAY())","v":""},{"$nulls":3},{"$f":"IF(OR(L75<>\"Sim\",G75=\"\",M75=\"\"),\"\",G75*M75)","v":""},{"$nulls":3},{"$f":"IF(OR(G75=\"\",Q75=\"\"),\"\",G75*Q75)","v":""}]
[{"$f":"IF(B76=\"\",\"\",ROW()-1)","v":""},{"$nulls":8},{"$f":"IF(H76=\"\",\"\",H76-TODAY())","v":""},{"$nulls":3},{"$f":"IF(OR(L76<>\"Sim\",G76=\"\",M76=\"\"),\"\",G76*M76)","v":""},{"$nulls":3},{"$f":"IF(OR(G76=\"\",Q76=\"\"),\"\",G76*Q76)","v":""}]
[{"$f":"IF(B77=\"\",\"\",ROW()-1)","v":""},{"$nulls":8},{"$f":"IF(H77=\"\",\"\",H77-TODAY())","v":""},{"$nulls":3},{"$f":"IF(OR(L77<>\"Sim\",G77=\"\",M77=\"\"),\"\",G77*M77)","v":""},{"$nulls":3},{"$f":"IF(OR(G77=\"\",Q77=\"\"),\"\",G77*Q77)","v":""}]
[{"$f":"IF(B78=\"\",\"\",ROW()-1)","v":""},{"$nulls":8},{"$f":"IF(H78=\"\",\"\",H78-TODAY())","v":""},{"$nulls":3},{"$f":"IF(OR(L78<>\"Sim\",G78=\"\",M78=\"\"),\"\",G78*M78)","v":""},{"$nulls":3},{"$f":"IF(OR(G78=\"\",Q78=\"\"),\"\",G78*Q78)","v":""}]
[{"$f":"IF(B79=\"\",\"\",ROW()-1)","v":""},{"$nulls":8},{"$f":"IF(H79=\"\",\"\",H79-TODAY())","v":""},{"$nulls":3},{"$f":"IF(OR(L79<>\"Sim\",G79=\"\",M79=\"\"),\"\",G79*M79)","v":""},{"$nulls":3},{"$f":"IF(OR(G79=\"\",Q79=\"\"),\"\",G79*Q79)","v":""}]
[{"$f":"IF(B80=\"\",\"\",ROW()-1)","v":""},{"$nulls":8},{"$f":"IF(H80=\"\",\"\",H80-TODAY())","v":""},{"$nulls":3},{"$f":"IF(OR(L80<>\"Sim\",G80=\"\",M80=\"\"),\"\",G80*M80)","v":""},{"$nulls":3},{"$f":"IF(OR(G80=\"\",Q80=\"\"),\"\",G80*Q80)","v":""}]
[{"$f":"IF(B81=\"\",\"\",ROW()-1)","v":""},{"$nulls":8},{"$f":"IF(H81=\"\",\"\",H81-TODAY())","v":""},{"$nulls":3},{"$f":"IF(OR(L81<>\"Sim\",G81=\"\",M81=\"\"),\"\",G81*M81)","v":""},{"$nulls":3},{"$f":"IF(OR(G81=\"\",Q81=\"\"),\"\",G81*Q81)","v":""}]
[{"$f":"IF(B82=\"\",\"\",ROW()-1)","v":""},{"$nulls":8},{"$f":"IF(H82=\"\",\"\",H82-TODAY())","v":""},{"$nulls":3},{"$f":"IF(OR(L82<>\"Sim\",G82=\"\",M82=\"\"),\"\",G82*M82)","v":""},{"$nulls":3},{"$f":"IF(OR(G82=\"\",Q82=\"\"),\"\",G82*Q82)","v":""}]
[{"$f":"IF(B83=\"\",\"\",ROW()-1)","v":""},{"$nulls":8},{"$f":"IF(H83=\"\",\"\",H83-TODAY())","v":""},{"$nulls":3},{"$f":"IF(OR(L83<>\"Sim\",G83=\"\",M83=\"\"),\"\",G83*M83)","v":""},{"$nulls":3},{"$f":"IF(OR(G83=\"\",Q83=\"\"),\"\",G83*Q83)","v":""}]
[{"$f":"IF(B84=\"\",\"\",ROW()-1)","v":""},{"$nulls":8},{"$f":"IF(H84=\"\",\"\",H84-TODAY())","v":""},{"$nulls":3},{"$f":"IF(OR(L84<>\"Sim\",G84=\"\",M84=\"\"),\"\",G84*M84)","v":""},{"$nulls":3},{"$f":"IF(OR(G84=\"\",Q84=\"\"),\"\",G84*Q84)","v":""}]
[{"$f":"IF(B85=\"\",\"\",ROW()-1)","v":""},{"$nulls":8},{"$f":"IF(H85=\"\",\"\",H85-TODAY())","v":""},{"$nulls":3},{"$f":"IF(OR(L85<>\"Sim\",G85=\"\",M85=\"\"),\"\",G85*M85)","v":""},{"$nulls":3},{"$f":"IF(OR(G85=\"\",Q85=\"\"),\"\",G85*Q85)","v":""}]
[{"$f":"IF(B86=\"\",\"\",ROW()-1)","v":""},{"$nulls":8},{"$f":"IF(H86=\"\",\"\",H86-TODAY())","v":""},{"$nulls":3},{"$f":"IF(OR(L86<>\"Sim\",G86=\"\",M86=\"\"),\"\",G86*M86)","v":""},{"$nulls":3},{"$f":"IF(OR(G86=\"\",Q86=\"\"),\"\",G86*Q86)","v":""}]
[{"$f":"IF(B87=\"\",\"\",ROW()-1)","v":""},{"$nulls":8},{"$f":"IF(H87=\"\",\"\",H87-TODAY())","v":""},{"$nulls":3},{"$f":"IF(OR(L87<>\"Sim\",G87=\"\",M87=\"\"),\"\",G87*M87)","v":""},{"$nulls":3},{"$f":"IF(OR(G87=\"\",Q87=\"\"),\"\",G87*Q87)","v":""}]
[{"$f":"IF(B88=\"\",\"\",ROW()-1)","v":""},{"$nulls":8},{"$f":"IF(H88=\"\",\"\",H88-TODAY())","v":""},{"$nulls":3},{"$f":"IF(OR(L88<>\"Sim\",G88=\"\",M88=\"\"),\"\",G88*M88)","v":""},{"$nulls":3},{"$f":"IF(OR(G88=\"\",Q88=\"\"),\"\",G88*Q88)","v":""}]
[{"$f":"IF(B89=\"\",\"\",ROW()-1)","v":""},{"$nulls":8},{"$f":"IF(H89=\"\",\"\",H89-TODAY())","v":""},{"$nulls":3},{"$f":"IF(OR(L89<>\"Sim\",G89=\"\",M89=\"\"),\"\",G89*M89)","v":""},{"$nulls":3},{"$f":"IF(OR(G89=\"\",Q89=\"\"),\"\",G89*Q89)","v":""}]
[{"$f":"IF(B90=\"\",\"\",ROW()-1)","v":""},{"$nulls":8},{"$f":"IF(H90=\"\",\"\",H90-TODAY())","v":""},{"$nulls":3},{"$f":"IF(OR(L90<>\"Sim\",G90=\"\",M90=\"\"),\"\",G90*M90)","v":""},{"$nulls":3},{"$f":"IF(OR(G90=\"\",Q90=\"\"),\"\",G90*Q90)","v":""}]
[{"$f":"IF(B91=\"\",\"\",ROW()-1)","v":""},{"$nulls":8},{"$f":"IF(H91=\"\",\"\",H91-TODAY())","v":""},{"$nulls":3},{"$f":"IF(OR(L91<>\"Sim\",G91=\"\",M91=\"\"),\"\",G91*M91)","v":""},{"$nulls":3},{"$f":"IF(OR(G91=\"\",Q91=\"\"),\"\",G91*Q91)","v":""}]
[{"$f":"IF(B92=\"\",\"\",ROW()-1)","v":""},{"$nulls":8},{"$f":"IF(H92=\"\",\"\",H92-TODAY())","v":""},{"$nulls":3},{"$f":"IF(OR(L92<>\"Sim\",G92=\"\",M92=\"\"),\"\",G92*M92)","v":""},{"$nulls":3},{"$f":"IF(OR(G92=\"\",Q92=\"\"),\"\",G92*Q92)","v":""}]
[{"$f":"IF(B93=\"\",\"\",ROW()-1)","v":""},{"$nulls":8},{"$f":"IF(H93=\"\",\"\",H93-TODAY())","v":""},{"$nulls":3},{"$f":"IF(OR(L93<>\"Sim\",G93=\"\",M93=\"\"),\"\",G93*M93)","v":""},{"$nulls":3},{"$f":"IF(OR(G93=\"\",Q93=\"\"),\"\",G93*Q93)","v":""}]
[{"$f":"IF(B94=\"\",\"\",ROW()-1)","v":""},{"$nulls":8},{"$f":"IF(H94=\"\",\"\",H94-TODAY())","v":""},{"$nulls":3},{"$f":"IF(OR(L94<>\"Sim\",G94=\"\",M94=\"\"),\"\",G94*M94)","v":""},{"$nulls":3},{"$f":"IF(OR(G94=\"\",Q94=\"\"),\"\",G94*Q94)","v":""}]
[{"$f":"IF(B95=\"\",\"\",ROW()-1)","v":""},{"$nulls":8},{"$f":"IF(H95=\"\",\"\",H95-TODAY())","v":""},{"$nulls":3},{"$f":"IF(OR(L95<>\"Sim\",G95=\"\",M95=\"\"),\"\",G95*M95)","v":""},{"$nulls":3},{"$f":"IF(OR(G95=\"\",Q95=\"\"),\"\",G95*Q95)","v":""}]
[{"$f":"IF(B96=\"\",\"\",ROW()-1)","v":""},{"$nulls":8},{"$f":"IF(H96=\"\",\"\",H96-TODAY())","v":""},{"$nulls":3},{"$f":"IF(OR(L96<>\"Sim\",G96=\"\",M96=\"\"),\"\",G96*M96)","v":""},{"$nulls":3},{"$f":"IF(OR(G96=\"\",Q96=\"\"),\"\",G96*Q96)","v":""}]
[{"$f":"IF(B97=\"\",\"\",ROW()-1)","v":""},{"$nulls":8},{"$f":"IF(H97=\"\",\"\",H97-TODAY())","v":""},{"$nulls":3},{"$f":"IF(OR(L97<>\"Sim\",G97=\"\",M97=\"\"),\"\",G97*M97)","v":""},{"$nulls":3},{"$f":"IF(OR(G97=\"\",Q97=\"\"),\"\",G97*Q97)","v":""}]
[{"$f":"IF(B98=\"\",\"\",ROW()-1)","v":""},{"$nulls":8},{"$f":"IF(H98=\"\",\"\",H98-TODAY())","v":""},{"$nulls":3},{"$f":"IF(OR(L98<>\"Sim\",G98=\"\",M98=\"\"),\"\",G98*M98)","v":""},{"$nulls":3},{"$f":"IF(OR(G98=\"\",Q98=\"\"),\"\",G98*Q98)","v":""}]
[{"$f":"IF(B99=\"\",\"\",ROW()-1)","v":""},{"$nulls":8},{"$f":"IF(H99=\"\",\"\",H99-TODAY())","v":""},{"$nulls":3},{"$f":"IF(OR(L99<>\"Sim\",G99=\"\",M99=\"\"),\"\",G99*M99)","v":""},{"$nulls":3},{"$f":"IF(OR(G99=\"\",Q99=\"\"),\"\",G99*Q99)","v":""}]
[{"$f":"IF(B100=\"\",\"\",ROW()-1)","v":""},{"$nulls":8},{"$f":"IF(H100=\"\",\"\",H100-TODAY())","v":""},{"$nulls":3},{"$f":"IF(OR(L100<>\"Sim\",G100=\"\",M100=\"\"),\"\",G100*M100)","v":""},{"$nulls":3},{"$f":"IF(OR(G100=\"\",Q100=\"\"),\"\",G100*Q100)","v":""}]
[{"$f":"IF(B101=\"\",\"\",ROW()-1)","v":""},{"$nulls":8},{"$f":"IF(H101=\"\",\"\",H101-TODAY())","v":""},{"$nulls":3},{"$f":"IF(OR(L101<>\"Sim\",G101=\"\",M101=\"\"),\"\",G101*M101)","v":""},{"$nulls":3},{"$f":"IF(OR(G101=\"\",Q101=\"\"),\"\",G101*Q101)","v":""}]
[{"$f":"IF(B102=\"\",\"\",ROW()-1)","v":""},{"$nulls":8},{"$f":"IF(H102=\"\",\"\",H102-TODAY())","v":""},{"$nulls":3},{"$f":"IF(OR(L102<>\"Sim\",G102=\"\",M102=\"\"),\"\",G102*M102)","v":""},{"$nulls":3},{"$f":"IF(OR(G102=\"\",Q102=\"\"),\"\",G102*Q102)","v":""}]
[{"$f":"IF(B103=\"\",\"\",ROW()-1)","v":""},{"$nulls":8},{"$f":"IF(H103=\"\",\"\",H103-TODAY())","v":""},{"$nulls":3},{"$f":"IF(OR(L103<>\"Sim\",G103=\"\",M103=\"\"),\"\",G103*M103)","v":""},{"$nulls":3},{"$f":"IF(OR(G103=\"\",Q103=\"\"),\"\",G103*Q103)","v":""}]
[{"$f":"IF(B104=\"\",\"\",ROW()-1)","v":""},{"$nulls":8},{"$f":"IF(H104=\"\",\"\",H104-TODAY())","v":""},{"$nulls":3},{"$f":"IF(OR(L104<>\"Sim\",G104=\"\",M104=\"\"),\"\",G104*M104)","v":""},{"$nulls":3},{"$f":"IF(OR(G104=\"\",Q104=\"\"),\"\",G104*Q104)","v":""}]
[{"$f":"IF(B105=\"\",\"\",ROW()-1)","v":""},{"$nulls":8},{"$f":"IF(H105=\"\",\"\",H105-TODAY())","v":""},{"$nulls":3},{"$f":"IF(OR(L105<>\"Sim\",G105=\"\",M105=\"\"),\"\",G105*M105)","v":""},{"$nulls":3},{"$f":"IF(OR(G105=\"\",Q105=\"\"),\"\",G105*Q105)","v":""}]
[{"$f":"IF(B106=\"\",\"\",ROW()-1)","v":""},{"$nulls":8},{"$f":"IF(H106=\"\",\"\",H106-TODAY())","v":""},{"$nulls":3},{"$f":"IF(OR(L106<>\"Sim\",G106=\"\",M106=\"\"),\"\",G106*M106)","v":""},{"$nulls":3},{"$f":"IF(OR(G106=\"\",Q106=\"\"),\"\",G106*Q106)","v":""}]
[{"$f":"IF(B107=\"\",\"\",ROW()-1)","v":""},{"$nulls":8},{"$f":"IF(H107=\"\",\"\",H107-TODAY())","v":""},{"$nulls":3},{"$f":"IF(OR(L107<>\"Sim\",G107=\"\",M107=\"\"),\"\",G107*M107)","v":""},{"$nulls":3},{"$f":"IF(OR(G107=\"\",Q107=\"\"),\"\",G107*Q107)","v":""}]
[{"$f":"IF(B108=\"\",\"\",ROW()-1)","v":""},{"$nulls":8},{"$f":"IF(H108=\"\",\"\",H108-TODAY())","v":""},{"$nulls":3},{"$f":"IF(OR(L108<>\"Sim\",G108=\"\",M108=\"\"),\"\",G108*M108)","v":""},{"$nulls":3},{"$f":"IF(OR(G108=\"\",Q108=\"\"),\"\",G108*Q108)","v":""}]
[{"$f":"IF(B109=\"\",\"\",ROW()-1)","v":""},{"$nulls":8},{"$f":"IF(H109=\"\",\"\",H109-TODAY())","v":""},{"$nulls":3},{"$f":"IF(OR(L109<>\"Sim\",G109=\"\",M109=\"\"),\"\",G109*M109)","v":""},{"$nulls":3},{"$f":"IF(OR(G109=\"\",Q109=\"\"),\"\",G109*Q109)","v":""}]
[{"$f":"IF(B110=\"\",\"\",ROW()-1)","v":""},{"$nulls":8},{"$f":"IF(H110=\"\",\"\",H110-TODAY())","v":""},{"$nulls":3},{"$f":"IF(OR(L110<>\"Sim\",G110=\"\",M110=\"\"),\"\",G110*M110)","v":""},{"$nulls":3},{"$f":"IF(OR(G110=\"\",Q110=\"\"),\"\",G110*Q110)","v":""}]
[{"$f":"IF(B111=\"\",\"\",ROW()-1)","v":""},{"$nulls":8},{"$f":"IF(H111=\"\",\"\",H111-TODAY())","v":""},{"$nulls":3},{"$f":"IF(OR(L111<>\"Sim\",G111=\"\",M111=\"\"),\"\",G111*M111)","v":""},{"$nulls":3},{"$f":"IF(OR(G111=\"\",Q111=\"\"),\"\",G111*Q111)","v":""}]
[{"$f":"IF(B112=\"\",\"\",ROW()-1)","v":""},{"$nulls":8},{"$f":"IF(H112=\"\",\"\",H112-TODAY())","v":""},{"$nulls":3},{"$f":"IF(OR(L112<>\"Sim\",G112=\"\",M112=\"\"),\"\",G112*M112)","v":""},{"$nulls":3},{"$f":"IF(OR(G112=\"\",Q112=\"\"),\"\",G112*Q112)","v":""}]
[{"$f":"IF(B113=\"\",\"\",ROW()-1)","v":""},{"$nulls":8},{"$f":"IF(H113=\"\",\"\",H113-TODAY())","v":""},{"$nulls":3},{"$f":"IF(OR(L113<>\"Sim\",G113=\"\",M113=\"\"),\"\",G113*M113)","v":""},{"$nulls":3},{"$f":"IF(OR(G113=\"\",Q113=\"\"),\"\",G113*Q113)","v":""}]
[{"$f":"IF(B114=\"\",\"\",ROW()-1)","v":""},{"$nulls":8},{"$f":"IF(H114=\"\",\"\",H114-TODAY())","v":""},{"$nulls":3},{"$f":"IF(OR(L114<>\"Sim\",G114=\"\",M114=\"\"),\"\",G114*M114)","v":""},{"$nulls":3},{"$f":"IF(OR(G114=\"\",Q114=\"\"),\"\",G114*Q114)","v":""}]
[{"$f":"IF(B115=\"\",\"\",ROW()-1)","v":""},{"$nulls":8},{"$f":"IF(H115=\"\",\"\",H115-TODAY())","v":""},{"$nulls":3},{"$f":"IF(OR(L115<>\"Sim\",G115=\"\",M115=\"\"),\"\",G115*M115)","v":""},{"$nulls":3},{"$f":"IF(OR(G115=\"\",Q115=\"\"),\"\",G115*Q115)","v":""}]
[{"$f":"IF(B116=\"\",\"\",ROW()-1)","v":""},{"$nulls":8},{"$f":"IF(H116=\"\",\"\",H116-TODAY())","v":""},{"$nulls":3},{"$f":"IF(OR(L116<>\"Sim\",G116=\"\",M116=\"\"),\"\",G116*M116)","v":""},{"$nulls":3},{"$f":"IF(OR(G116=\"\",Q116=\"\"),\"\",G116*Q116)","v":""}]
[{"$f":"IF(B117=\"\",\"\",ROW()-1)","v":""},{"$nulls":8},{"$f":"IF(H117=\"\",\"\",H117-TODAY())","v":""},{"$nulls":3},{"$f":"IF(OR(L117<>\"Sim\",G117=\"\",M117=\"\"),\"\",G117*M117)","v":""},{"$nulls":3},{"$f":"IF(OR(G117=\"\",Q117=\"\"),\"\",G117*Q117)","v":""}]
[{"$f":"IF(B118=\"\",\"\",ROW()-1)","v":""},{"$nulls":8},{"$f":"IF(H118=\"\",\"\",H118-TODAY())","v":""},{"$nulls":3},{"$f":"IF(OR(L118<>\"Sim\",G118=\"\",M118=\"\"),\"\",G118*M118)","v":""},{"$nulls":3},{"$f":"IF(OR(G118=\"\",Q118=\"\"),\"\",G118*Q118)","v":""}]
[{"$f":"IF(B119=\"\",\"\",ROW()-1)","v":""},{"$nulls":8},{"$f":"IF(H119=\"\",\"\",H119-TODAY())","v":""},{"$nulls":3},{"$f":"IF(OR(L119<>\"Sim\",G119=\"\",M119=\"\"),\"\",G119*M119)","v":""},{"$nulls":3},{"$f":"IF(OR(G119=\"\",Q119=\"\"),\"\",G119*Q119)","v":""}]
[{"$f":"IF(B120=\"\",\"\",ROW()-1)","v":""},{"$nulls":8},{"$f":"IF(H120=\"\",\"\",H120-TODAY())","v":""},{"$nulls":3},{"$f":"IF(OR(L120<>\"Sim\",G120=\"\",M120=\"\"),\"\",G120*M120)","v":""},{"$nulls":3},{"$f":"IF(OR(G120=\"\",Q120=\"\"),\"\",G120*Q120)","v":""}]
[{"$f":"IF(B121=\"\",\"\",ROW()-1)","v":""},{"$nulls":8},{"$f":"IF(H121=\"\",\"\",H121-TODAY())","v":""},{"$nulls":3},{"$f":"IF(OR(L121<>\"Sim\",G121=\"\",M121=\"\"),\"\",G121*M121)","v":""},{"$nulls":3},{"$f":"IF(OR(G121=\"\",Q121=\"\"),\"\",G121*Q121)","v":""}]
[{"$f":"IF(B122=\"\",\"\",ROW()-1)","v":""},{"$nulls":8},{"$f":"IF(H122=\"\",\"\",H122-TODAY())","v":""},{"$nulls":3},{"$f":"IF(OR(L122<>\"Sim\",G122=\"\",M122=\"\"),\"\",G122*M122)","v":""},{"$nulls":3},{"$f":"IF(OR(G122=\"\",Q122=\"\"),\"\",G122*Q122)","v":""}]
[{"$f":"IF(B123=\"\",\"\",ROW()-1)","v":""},{"$nulls":8},{"$f":"IF(H123=\"\",\"\",H123-TODAY())","v":""},{"$nulls":3},{"$f":"IF(OR(L123<>\"Sim\",G123=\"\",M123=\"\"),\"\",G123*M123)","v":""},{"$nulls":3},{"$f":"IF(OR(G123=\"\",Q123=\"\"),\"\",G123*Q123)","v":""}]
[{"$f":"IF(B124=\"\",\"\",ROW()-1)","v":""},{"$nulls":8},{"$f":"IF(H124=\"\",\"\",H124-TODAY())","v":""},{"$nulls":3},{"$f":"IF(OR(L124<>\"Sim\",G124=\"\",M124=\"\"),\"\",G124*M124)","v":""},{"$nulls":3},{"$f":"IF(OR(G124=\"\",Q124=\"\"),\"\",G124*Q124)","v":""}]
[{"$f":"IF(B125=\"\",\"\",ROW()-1)","v":""},{"$nulls":8},{"$f":"IF(H125=\"\",\"\",H125-TODAY())","v":""},{"$nulls":3},{"$f":"IF(OR(L125<>\"Sim\",G125=\"\",M125=\"\"),\"\",G125*M125)","v":""},{"$nulls":3},{"$f":"IF(OR(G125=\"\",Q125=\"\"),\"\",G125*Q125)","v":""}]
[{"$f":"IF(B126=\"\",\"\",ROW()-1)","v":""},{"$nulls":8},{"$f":"IF(H126=\"\",\"\",H126-TODAY())","v":""},{"$nulls":3},{"$f":"IF(OR(L126<>\"Sim\",G126=\"\",M126=\"\"),\"\",G126*M126)","v":""},{"$nulls":3},{"$f":"IF(OR(G126=\"\",Q126=\"\"),\"\",G126*Q126)","v":""}]
[{"$f":"IF(B127=\"\",\"\",ROW()-1)","v":""},{"$nulls":8},{"$f":"IF(H127=\"\",\"\",H127-TODAY())","v":""},{"$nulls":3},{"$f":"IF(OR(L127<>\"Sim\",G127=\"\",M127=\"\"),\"\",G127*M127)","v":""},{"$nulls":3},{"$f":"IF(OR(G127=\"\",Q127=\"\"),\"\",G127*Q127)","v":""}]
[{"$f":"IF(B128=\"\",\"\",ROW()-1)","v":""},{"$nulls":8},{"$f":"IF(H128=\"\",\"\",H128-TODAY())","v":""},{"$nulls":3},{"$f":"IF(OR(L128<>\"Sim\",G128=\"\",M128=\"\"),\"\",G128*M128)","v":""},{"$nulls":3},{"$f":"IF(OR(G128=\"\",Q128=\"\"),\"\",G128*Q128)","v":""}]
[{"$f":"IF(B129=\"\",\"\",ROW()-1)","v":""},{"$nulls":8},{"$f":"IF(H129=\"\",\"\",H129-TODAY())","v":""},{"$nulls":3},{"$f":"IF(OR(L129<>\"Sim\",G129=\"\",M129=\"\"),\"\",G129*M129)","v":""},{"$nulls":3},{"$f":"IF(OR(G129=\"\",Q129=\"\"),\"\",G129*Q129)","v":""}]
[{"$f":"IF(B130=\"\",\"\",ROW()-1)","v":""},{"$nulls":8},{"$f":"IF(H130=\"\",\"\",H130-TODAY())","v":""},{"$nulls":3},{"$f":"IF(OR(L130<>\"Sim\",G130=\"\",M130=\"\"),\"\",G130*M130)","v":""},{"$nulls":3},{"$f":"IF(OR(G130=\"\",Q130=\"\"),\"\",G130*Q130)","v":""}]
[{"$f":"IF(B131=\"\",\"\",ROW()-1)","v":""},{"$nulls":8},{"$f":"IF(H131=\"\",\"\",H131-TODAY())","v":""},{"$nulls":3},{"$f":"IF(OR(L131<>\"Sim\",G131=\"\",M131=\"\"),\"\",G131*M131)","v":""},{"$nulls":3},{"$f":"IF(OR(G131=\"\",Q131=\"\"),\"\",G131*Q131)","v":""}]
[{"$f":"IF(B132=\"\",\"\",ROW()-1)","v":""},{"$nulls":8},{"$f":"IF(H132=\"\",\"\",H132-TODAY())","v":""},{"$nulls":3},{"$f":"IF(OR(L132<>\"Sim\",G132=\"\",M132=\"\"),\"\",G132*M132)","v":""},{"$nulls":3},{"$f":"IF(OR(G132=\"\",Q132=\"\"),\"\",G132*Q132)","v":""}]
[{"$f":"IF(B133=\"\",\"\",ROW()-1)","v":""},{"$nulls":8},{"$f":"IF(H133=\"\",\"\",H133-TODAY())","v":""},{"$nulls":3},{"$f":"IF(OR(L133<>\"Sim\",G133=\"\",M133=\"\"),\"\",G133*M133)","v":""},{"$nulls":3},{"$f":"IF(OR(G133=\"\",Q133=\"\"),\"\",G133*Q133)","v":""}]
[{"$f":"IF(B134=\"\",\"\",ROW()-1)","v":""},{"$nulls":8},{"$f":"IF(H134=\"\",\"\",H134-TODAY())","v":""},{"$nulls":3},{"$f":"IF(OR(L134<>\"Sim\",G134=\"\",M134=\"\"),\"\",G134*M134)","v":""},{"$nulls":3},{"$f":"IF(OR(G134=\"\",Q134=\"\"),\"\",G134*Q134)","v":""}]
[{"$f":"IF(B135=\"\",\"\",ROW()-1)","v":""},{"$nulls":8},{"$f":"IF(H135=\"\",\"\",H135-TODAY())","v":""},{"$nulls":3},{"$f":"IF(OR(L135<>\"Sim\",G135=\"\",M135=\"\"),\"\",G135*M135)","v":""},{"$nulls":3},{"$f":"IF(OR(G135=\"\",Q135=\"\"),\"\",G135*Q135)","v":""}]
[{"$f":"IF(B136=\"\",\"\",ROW()-1)","v":""},{"$nulls":8},{"$f":"IF(H136=\"\",\"\",H136-TODAY())","v":""},{"$nulls":3},{"$f":"IF(OR(L136<>\"Sim\",G136=\"\",M136=\"\"),\"\",G136*M136)","v":""},{"$nulls":3},{"$f":"IF(OR(G136=\"\",Q136=\"\"),\"\",G136*Q136)","v":""}]
[{"$f":"IF(B137=\"\",\"\",ROW()-1)","v":""},{"$nulls":8},{"$f":"IF(H137=\"\",\"\",H137-TODAY())","v":""},{"$nulls":3},{"$f":"IF(OR(L137<>\"Sim\",G137=\"\",M137=\"\"),\"\",G137*M137)","v":""},{"$nulls":3},{"$f":"IF(OR(G137=\"\",Q137=\"\"),\"\",G137*Q137)","v":""}]
[{"$f":"IF(B138=\"\",\"\",ROW()-1)","v":""},{"$nulls":8},{"$f":"IF(H138=\"\",\"\",H138-TODAY())","v":""},{"$nulls":3},{"$f":"IF(OR(L138<>\"Sim\",G138=\"\",M138=\"\"),\"\",G138*M138)","v":""},{"$nulls":3},{"$f":"IF(OR(G138=\"\",Q138=\"\"),\"\",G138*Q138)","v":""}]
[{"$f":"IF(B139=\"\",\"\",ROW()-1)","v":""},{"$nulls":8},{"$f":"IF(H139=\"\",\"\",H139-TODAY())","v":""},{"$nulls":3},{"$f":"IF(OR(L139<>\"Sim\",G139=\"\",M139=\"\"),\"\",G139*M139)","v":""},{"$nulls":3},{"$f":"IF(OR(G139=\"\",Q139=\"\"),\"\",G139*Q139)","v":""}]
[{"$f":"IF(B140=\"\",\"\",ROW()-1)","v":""},{"$nulls":8},{"$f":"IF(H140=\"\",\"\",H140-TODAY())","v":""},{"$nulls":3},{"$f":"IF(OR(L140<>\"Sim\",G140=\"\",M140=\"\"),\"\",G140*M140)","v":""},{"$nulls":3},{"$f":"IF(OR(G140=\"\",Q140=\"\"),\"\",G140*Q140)","v":""}]
[{"$f":"IF(B141=\"\",\"\",ROW()-1)","v":""},{"$nulls":8},{"$f":"IF(H141=\"\",\"\",H141-TODAY())","v":""},{"$nulls":3},{"$f":"IF(OR(L141<>\"Sim\",G141=\"\",M141=\"\"),\"\",G141*M141)","v":""},{"$nulls":3},{"$f":"IF(OR(G141=\"\",Q141=\"\"),\"\",G141*Q141)","v":""}]
[{"$f":"IF(B142=\"\",\"\",ROW()-1)","v":""},{"$nulls":8},{"$f":"IF(H142=\"\",\"\",H142-TODAY())","v":""},{"$nulls":3},{"$f":"IF(OR(L142<>\"Sim\",G142=\"\",M142=\"\"),\"\",G142*M142)","v":""},{"$nulls":3},{"$f":"IF(OR(G142=\"\",Q142=\"\"),\"\",G142*Q142)","v":""}]
[{"$f":"IF(B143=\"\",\"\",ROW()-1)","v":""},{"$nulls":8},{"$f":"IF(H143=\"\",\"\",H143-TODAY())","v":""},{"$nulls":3},{"$f":"IF(OR(L143<>\"Sim\",G143=\"\",M143=\"\"),\"\",G143*M143)","v":""},{"$nulls":3},{"$f":"IF(OR(G143=\"\",Q143=\"\"),\"\",G143*Q143)","v":""}]
[{"$f":"IF(B144=\"\",\"\",ROW()-1)","v":""},{"$nulls":8},{"$f":"IF(H144=\"\",\"\",H144-TODAY())","v":""},{"$nulls":3},{"$f":"IF(OR(L144<>\"Sim\",G144=\"\",M144=\"\"),\"\",G144*M144)","v":""},{"$nulls":3},{"$f":"IF(OR(G144=\"\",Q144=\"\"),\"\",G144*Q144)","v":""}]
[{"$f":"IF(B145=\"\",\"\",ROW()-1)","v":""},{"$nulls":8},{"$f":"IF(H145=\"\",\"\",H145-TODAY())","v":""},{"$nulls":3},{"$f":"IF(OR(L145<>\"Sim\",G145=\"\",M145=\"\"),\"\",G145*M145)","v":""},{"$nulls":3},{"$f":"IF(OR(G145=\"\",Q145=\"\"),\"\",G145*Q145)","v":""}]
[{"$f":"IF(B146=\"\",\"\",ROW()-1)","v":""},{"$nulls":8},{"$f":"IF(H146=\"\",\"\",H146-TODAY())","v":""},{"$nulls":3},{"$f":"IF(OR(L146<>\"Sim\",G146=\"\",M146=\"\"),\"\",G146*M146)","v":""},{"$nulls":3},{"$f":"IF(OR(G146=\"\",Q146=\"\"),\"\",G146*Q146)","v":""}]
[{"$f":"IF(B147=\"\",\"\",ROW()-1)","v":""},{"$nulls":8},{"$f":"IF(H147=\"\",\"\",H147-TODAY())","v":""},{"$nulls":3},{"$f":"IF(OR(L147<>\"Sim\",G147=\"\",M147=\"\"),\"\",G147*M147)","v":""},{"$nulls":3},{"$f":"IF(OR(G147=\"\",Q147=\"\"),\"\",G147*Q147)","v":""}]
[{"$f":"IF(B148=\"\",\"\",ROW()-1)","v":""},{"$nulls":8},{"$f":"IF(H148=\"\",\"\",H148-TODAY())","v":""},{"$nulls":3},{"$f":"IF(OR(L148<>\"Sim\",G148=\"\",M148=\"\"),\"\",G148*M148)","v":""},{"$nulls":3},{"$f":"IF(OR(G148=\"\",Q148=\"\"),\"\",G148*Q148)","v":""}]
[{"$f":"IF(B149=\"\",\"\",ROW()-1)","v":""},{"$nulls":8},{"$f":"IF(H149=\"\",\"\",H149-TODAY())","v":""},{"$nulls":3},{"$f":"IF(OR(L149<>\"Sim\",G149=\"\",M149=\"\"),\"\",G149*M149)","v":""},{"$nulls":3},{"$f":"IF(OR(G149=\"\",Q149=\"\"),\"\",G149*Q149)","v":""}]
[{"$f":"IF(B150=\"\",\"\",ROW()-1)","v":""},{"$nulls":8},{"$f":"IF(H150=\"\",\"\",H150-TODAY())","v":""},{"$nulls":3},{"$f":"IF(OR(L150<>\"Sim\",G150=\"\",M150=\"\"),\"\",G150*M150)","v":""},{"$nulls":3},{"$f":"IF(OR(G150=\"\",Q150=\"\"),\"\",G150*Q150)","v":""}]
[{"$f":"IF(B151=\"\",\"\",ROW()-1)","v":""},{"$nulls":8},{"$f":"IF(H151=\"\",\"\",H151-TODAY())","v":""},{"$nulls":3},{"$f":"IF(OR(L151<>\"Sim\",G151=\"\",M151=\"\"),\"\",G151*M151)","v":""},{"$nulls":3},{"$f":"IF(OR(G151=\"\",Q151=\"\"),\"\",G151*Q151)","v":""}]
[{"$f":"IF(B152=\"\",\"\",ROW()-1)","v":""},{"$nulls":8},{"$f":"IF(H152=\"\",\"\",H152-TODAY())","v":""},{"$nulls":3},{"$f":"IF(OR(L152<>\"Sim\",G152=\"\",M152=\"\"),\"\",G152*M152)","v":""},{"$nulls":3},{"$f":"IF(OR(G152=\"\",Q152=\"\"),\"\",G152*Q152)","v":""}]
[{"$f":"IF(B153=\"\",\"\",ROW()-1)","v":""},{"$nulls":8},{"$f":"IF(H153=\"\",\"\",H153-TODAY())","v":""},{"$nulls":3},{"$f":"IF(OR(L153<>\"Sim\",G153=\"\",M153=\"\"),\"\",G153*M153)","v":""},{"$nulls":3},{"$f":"IF(OR(G153=\"\",Q153=\"\"),\"\",G153*Q153)","v":""}]
[{"$f":"IF(B154=\"\",\"\",ROW()-1)","v":""},{"$nulls":8},{"$f":"IF(H154=\"\",\"\",H154-TODAY())","v":""},{"$nulls":3},{"$f":"IF(OR(L154<>\"Sim\",G154=\"\",M154=\"\"),\"\",G154*M154)","v":""},{"$nulls":3},{"$f":"IF(OR(G154=\"\",Q154=\"\"),\"\",G154*Q154)","v":""}]
[{"$f":"IF(B155=\"\",\"\",ROW()-1)","v":""},{"$nulls":8},{"$f":"IF(H155=\"\",\"\",H155-TODAY())","v":""},{"$nulls":3},{"$f":"IF(OR(L155<>\"Sim\",G155=\"\",M155=\"\"),\"\",G155*M155)","v":""},{"$nulls":3},{"$f":"IF(OR(G155=\"\",Q155=\"\"),\"\",G155*Q155)","v":""}]
[{"$f":"IF(B156=\"\",\"\",ROW()-1)","v":""},{"$nulls":8},{"$f":"IF(H156=\"\",\"\",H156-TODAY())","v":""},{"$nulls":3},{"$f":"IF(OR(L156<>\"Sim\",G156=\"\",M156=\"\"),\"\",G156*M156)","v":""},{"$nulls":3},{"$f":"IF(OR(G156=\"\",Q156=\"\"),\"\",G156*Q156)","v":""}]
[{"$f":"IF(B157=\"\",\"\",ROW()-1)","v":""},{"$nulls":8},{"$f":"IF(H157=\"\",\"\",H157-TODAY())","v":""},{"$nulls":3},{"$f":"IF(OR(L157<>\"Sim\",G157=\"\",M157=\"\"),\"\",G157*M157)","v":""},{"$nulls":3},{"$f":"IF(OR(G157=\"\",Q157=\"\"),\"\",G157*Q157)","v":""}]
[{"$f":"IF(B158=\"\",\"\",ROW()-1)","v":""},{"$nulls":8},{"$f":"IF(H158=\"\",\"\",H158-TODAY())","v":""},{"$nulls":3},{"$f":"IF(OR(L158<>\"Sim\",G158=\"\",M158=\"\"),\"\",G158*M158)","v":""},{"$nulls":3},{"$f":"IF(OR(G158=\"\",Q158=\"\"),\"\",G158*Q158)","v":""}]
[{"$f":"IF(B159=\"\",\"\",ROW()-1)","v":""},{"$nulls":8},{"$f":"IF(H159=\"\",\"\",H159-TODAY())","v":""},{"$nulls":3},{"$f":"IF(OR(L159<>\"Sim\",G159=\"\",M159=\"\"),\"\",G159*M159)","v":""},{"$nulls":3},{"$f":"IF(OR(G159=\"\",Q159=\"\"),\"\",G159*Q159)","v":""}]
[{"$f":"IF(B160=\"\",\"\",ROW()-1)","v":""},{"$nulls":8},{"$f":"IF(H160=\"\",\"\",H160-TODAY())","v":""},{"$nulls":3},{"$f":"IF(OR(L160<>\"Sim\",G160=\"\",M160=\"\"),\"\",G160*M160)","v":""},{"$nulls":3},{"$f":"IF(OR(G160=\"\",Q160=\"\"),\"\",G160*Q160)","v":""}]
[{"$f":"IF(B161=\"\",\"\",ROW()-1)","v":""},{"$nulls":8},{"$f":"IF(H161=\"\",\"\",H161-TODAY())","v":""},{"$nulls":3},{"$f":"IF(OR(L161<>\"Sim\",G161=\"\",M161=\"\"),\"\",G161*M161)","v":""},{"$nulls":3},{"$f":"IF(OR(G161=\"\",Q161=\"\"),\"\",G161*Q161)","v":""}]
[{"$f":"IF(B162=\"\",\"\",ROW()-1)","v":""},{"$nulls":8},{"$f":"IF(H162=\"\",\"\",H162-TODAY())","v":""},{"$nulls":3},{"$f":"IF(OR(L162<>\"Sim\",G162=\"\",M162=\"\"),\"\",G162*M162)","v":""},{"$nulls":3},{"$f":"IF(OR(G162=\"\",Q162=\"\"),\"\",G162*Q162)","v":""}]
[{"$f":"IF(B163=\"\",\"\",ROW()-1)","v":""},{"$nulls":8},{"$f":"IF(H163=\"\",\"\",H163-TODAY())","v":""},{"$nulls":3},{"$f":"IF(OR(L163<>\"Sim\",G163=\"\",M163=\"\"),\"\",G163*M163)","v":""},{"$nulls":3},{"$f":"IF(OR(G163=\"\",Q163=\"\"),\"\",G163*Q163)","v":""}]
[{"$f":"IF(B164=\"\",\"\",ROW()-1)","v":""},{"$nulls":8},{"$f":"IF(H164=\"\",\"\",H164-TODAY())","v":""},{"$nulls":3},{"$f":"IF(OR(L164<>\"Sim\",G164=\"\",M164=\"\"),\"\",G164*M164)","v":""},{"$nulls":3},{"$f":"IF(OR(G164=\"\",Q164=\"\"),\"\",G164*Q164)","v":""}]
[{"$f":"IF(B165=\"\",\"\",ROW()-1)","v":""},{"$nulls":8},{"$f":"IF(H165=\"\",\"\",H165-TODAY())","v":""},{"$nulls":3},{"$f":"IF(OR(L165<>\"Sim\",G165=\"\",M165=\"\"),\"\",G165*M165)","v":""},{"$nulls":3},{"$f":"IF(OR(G165=\"\",Q165=\"\"),\"\",G165*Q165)","v":""}]
[{"$f":"IF(B166=\"\",\"\",ROW()-1)","v":""},{"$nulls":8},{"$f":"IF(H166=\"\",\"\",H166-TODAY())","v":""},{"$nulls":3},{"$f":"IF(OR(L166<>\"Sim\",G166=\"\",M166=\"\"),\"\",G166*M166)","v":""},{"$nulls":3},{"$f":"IF(OR(G166=\"\",Q166=\"\"),\"\",G166*Q166)","v":""}]
[{"$f":"IF(B167=\"\",\"\",ROW()-1)","v":""},{"$nulls":8},{"$f":"IF(H167=\"\",\"\",H167-TODAY())","v":""},{"$nulls":3},{"$f":"IF(OR(L167<>\"Sim\",G167=\"\",M167=\"\"),\"\",G167*M167)","v":""},{"$nulls":3},{"$f":"IF(OR(G167=\"\",Q167=\"\"),\"\",G167*Q167)","v":""}]
[{"$f":"IF(B168=\"\",\"\",ROW()-1)","v":""},{"$nulls":8},{"$f":"IF(H168=\"\",\"\",H168-TODAY())","v":""},{"$nulls":3},{"$f":"IF(OR(L168<>\"Sim\",G168=\"\",M168=\"\"),\"\",G168*M168)","v":""},{"$nulls":3},{"$f":"IF(OR(G168=\"\",Q168=\"\"),\"\",G168*Q168)","v":""}]
[{"$f":"IF(B169=\"\",\"\",ROW()-1)","v":""},{"$nulls":8},{"$f":"IF(H169=\"\",\"\",H169-TODAY())","v":""},{"$nulls":3},{"$f":"IF(OR(L169<>\"Sim\",G169=\"\",M169=\"\"),\"\",G169*M169)","v":""},{"$nulls":3},{"$f":"IF(OR(G169=\"\",Q169=\"\"),\"\",G169*Q169)","v":""}]
[{"$f":"IF(B170=\"\",\"\",ROW()-1)","v":""},{"$nulls":8},{"$f":"IF(H170=\"\",\"\",H170-TODAY())","v":""},{"$nulls":3},{"$f":"IF(OR(L170<>\"Sim\",G170=\"\",M170=\"\"),\"\",G170*M170)","v":""},{"$nulls":3},{"$f":"IF(OR(G170=\"\",Q170=\"\"),\"\",G170*Q170)","v":""}]
[{"$f":"IF(B171=\"\",\"\",ROW()-1)","v":""},{"$nulls":8},{"$f":"IF(H171=\"\",\"\",H171-TODAY())","v":""},{"$nulls":3},{"$f":"IF(OR(L171<>\"Sim\",G171=\"\",M171=\"\"),\"\",G171*M171)","v":""},{"$nulls":3},{"$f":"IF(OR(G171=\"\",Q171=\"\"),\"\",G171*Q171)","v":""}]
[{"$f":"IF(B172=\"\",\"\",ROW()-1)","v":""},{"$nulls":8},{"$f":"IF(H172=\"\",\"\",H172-TODAY())","v":""},{"$nulls":3},{"$f":"IF(OR(L172<>\"Sim\",G172=\"\",M172=\"\"),\"\",G172*M172)","v":""},{"$nulls":3},{"$f":"IF(OR(G172=\"\",Q172=\"\"),\"\",G172*Q172)","v":""}]
[{"$f":"IF(B173=\"\",\"\",ROW()-1)","v":""},{"$nulls":8},{"$f":"IF(H173=\"\",\"\",H173-TODAY())","v":""},{"$nulls":3},{"$f":"IF(OR(L173<>\"Sim\",G173=\"\",M173=\"\"),\"\",G173*M173)","v":""},{"$nulls":3},{"$f":"IF(OR(G173=\"\",Q173=\"\"),\"\",G173*Q173)","v":""}]
[{"$f":"IF(B174=\"\",\"\",ROW()-1)","v":""},{"$nulls":8},{"$f":"IF(H174=\"\",\"\",H174-TODAY())","v":""},{"$nulls":3},{"$f":"IF(OR(L174<>\"Sim\",G174=\"\",M174=\"\"),\"\",G174*M174)","v":""},{"$nulls":3},{"$f":"IF(OR(G174=\"\",Q174=\"\"),\"\",G174*Q174)","v":""}]
[{"$f":"IF(B175=\"\",\"\",ROW()-1)","v":""},{"$nulls":8},{"$f":"IF(H175=\"\",\"\",H175-TODAY())","v":""},{"$nulls":3},{"$f":"IF(OR(L175<>\"Sim\",G175=\"\",M175=\"\"),\"\",G175*M175)","v":""},{"$nulls":3},{"$f":"IF(OR(G175=\"\",Q175=\"\"),\"\",G175*Q175)","v":""}]
[{"$f":"IF(B176=\"\",\"\",ROW()-1)","v":""},{"$nulls":8},{"$f":"IF(H176=\"\",\"\",H176-TODAY())","v":""},{"$nulls":3},{"$f":"IF(OR(L176<>\"Sim\",G176=\"\",M176=\"\"),\"\",G176*M176)","v":""},{"$nulls":3},{"$f":"IF(OR(G176=\"\",Q176=\"\"),\"\",G176*Q176)","v":""}]
[{"$f":"IF(B177=\"\",\"\",ROW()-1)","v":""},{"$nulls":8},{"$f":"IF(H177=\"\",\"\",H177-TODAY())","v":""},{"$nulls":3},{"$f":"IF(OR(L177<>\"Sim\",G177=\"\",M177=\"\"),\"\",G177*M177)","v":""},{"$nulls":3},{"$f":"IF(OR(G177=\"\",Q177=\"\"),\"\",G177*Q177)","v":""}]
[{"$f":"IF(B178=\"\",\"\",ROW()-1)","v":""},{"$nulls":8},{"$f":"IF(H178=\"\",\"\",H178-TODAY())","v":""},{"$nulls":3},{"$f":"IF(OR(L178<>\"Sim\",G178=\"\",M178=\"\"),\"\",G178*M178)","v":""},{"$nulls":3},{"$f":"IF(OR(G178=\"\",Q178=\"\"),\"\",G178*Q178)","v":""}]
[{"$f":"IF(B179=\"\",\"\",ROW()-1)","v":""},{"$nulls":8},{"$f":"IF(H179=\"\",\"\",H179-TODAY())","v":""},{"$nulls":3},{"$f":"IF(OR(L179<>\"Sim\",G179=\"\",M179=\"\"),\"\",G179*M179)","v":""},{"$nulls":3},{"$f":"IF(OR(G179=\"\",Q179=\"\"),\"\",G179*Q179)","v":""}]
[{"$f":"IF(B180=\"\",\"\",ROW()-1)","v":""},{"$nulls":8},{"$f":"IF(H180=\"\",\"\",H180-TODAY())","v":""},{"$nulls":3},{"$f":"IF(OR(L180<>\"Sim\",G180=\"\",M180=\"\"),\"\",G180*M180)","v":""},{"$nulls":3},{"$f":"IF(OR(G180=\"\",Q180=\"\"),\"\",G180*Q180)","v":""}]
[{"$f":"IF(B181=\"\",\"\",ROW()-1)","v":""},{"$nulls":8},{"$f":"IF(H181=\"\",\"\",H181-TODAY())","v":""},{"$nulls":3},{"$f":"IF(OR(L181<>\"Sim\",G181=\"\",M181=\"\"),\"\",G181*M181)","v":""},{"$nulls":3},{"$f":"IF(OR(G181=\"\",Q181=\"\"),\"\",G181*Q181)","v":""}]
[{"$f":"IF(B182=\"\",\"\",ROW()-1)","v":""},{"$nulls":8},{"$f":"IF(H182=\"\",\"\",H182-TODAY())","v":""},{"$nulls":3},{"$f":"IF(OR(L182<>\"Sim\",G182=\"\",M182=\"\"),\"\",G182*M182)","v":""},{"$nulls":3},{"$f":"IF(OR(G182=\"\",Q182=\"\"),\"\",G182*Q182)","v":""}]
[{"$f":"IF(B183=\"\",\"\",ROW()-1)","v":""},{"$nulls":8},{"$f":"IF(H183=\"\",\"\",H183-TODAY())","v":""},{"$nulls":3},{"$f":"IF(OR(L183<>\"Sim\",G183=\"\",M183=\"\"),\"\",G183*M183)","v":""},{"$nulls":3},{"$f":"IF(OR(G183=\"\",Q183=\"\"),\"\",G183*Q183)","v":""}]
[{"$f":"IF(B184=\"\",\"\",ROW()-1)","v":""},{"$nulls":8},{"$f":"IF(H184=\"\",\"\",H184-TODAY())","v":""},{"$nulls":3},{"$f":"IF(OR(L184<>\"Sim\",G184=\"\",M184=\"\"),\"\",G184*M184)","v":""},{"$nulls":3},{"$f":"IF(OR(G184=\"\",Q184=\"\"),\"\",G184*Q184)","v":""}]
[{"$f":"IF(B185=\"\",\"\",ROW()-1)","v":""},{"$nulls":8},{"$f":"IF(H185=\"\",\"\",H185-TODAY())","v":""},{"$nulls":3},{"$f":"IF(OR(L185<>\"Sim\",G185=\"\",M185=\"\"),\"\",G185*M185)","v":""},{"$nulls":3},{"$f":"IF(OR(G185=\"\",Q185=\"\"),\"\",G185*Q185)","v":""}]
[{"$f":"IF(B186=\"\",\"\",ROW()-1)","v":""},{"$nulls":8},{"$f":"IF(H186=\"\",\"\",H186-TODAY())","v":""},{"$nulls":3},{"$f":"IF(OR(L186<>\"Sim\",G186=\"\",M186=\"\"),\"\",G186*M186)","v":""},{"$nulls":3},{"$f":"IF(OR(G186=\"\",Q186=\"\"),\"\",G186*Q186)","v":""}]
[{"$f":"IF(B187=\"\",\"\",ROW()-1)","v":""},{"$nulls":8},{"$f":"IF(H187=\"\",\"\",H187-TODAY())","v":""},{"$nulls":3},{"$f":"IF(OR(L187<>\"Sim\",G187=\"\",M187=\"\"),\"\",G187*M187)","v":""},{"$nulls":3},{"$f":"IF(OR(G187=\"\",Q187=\"\"),\"\",G187*Q187)","v":""}]
[{"$f":"IF(B188=\"\",\"\",ROW()-1)","v":""},{"$nulls":8},{"$f":"IF(H188=\"\",\"\",H188-TODAY())","v":""},{"$nulls":3},{"$f":"IF(OR(L188<>\"Sim\",G188=\"\",M188=\"\"),\"\",G188*M188)","v":""},{"$nulls":3},{"$f":"IF(OR(G188=\"\",Q188=\"\"),\"\",G188*Q188)","v":""}]
[{"$f":"IF(B189=\"\",\"\",ROW()-1)","v":""},{"$nulls":8},{"$f":"IF(H189=\"\",\"\",H189-TODAY())","v":""},{"$nulls":3},{"$f":"IF(OR(L189<>\"Sim\",G189=\"\",M189=\"\"),\"\",G189*M189)","v":""},{"$nulls":3},{"$f":"IF(OR(G189=\"\",Q189=\"\"),\"\",G189*Q189)","v":""}]
[{"$f":"IF(B190=\"\",\"\",ROW()-1)","v":""},{"$nulls":8},{"$f":"IF(H190=\"\",\"\",H190-TODAY())","v":""},{"$nulls":3},{"$f":"IF(OR(L190<>\"Sim\",G190=\"\",M190=\"\"),\"\",G190*M190)","v":""},{"$nulls":3},{"$f":"IF(OR(G190=\"\",Q190=\"\"),\"\",G190*Q190)","v":""}]
[{"$f":"IF(B191=\"\",\"\",ROW()-1)","v":""},{"$nulls":8},{"$f":"IF(H191=\"\",\"\",H191-TODAY())","v":""},{"$nulls":3},{"$f":"IF(OR(L191<>\"Sim\",G191=\"\",M191=\"\"),\"\",G191*M191)","v":""},{"$nulls":3},{"$f":"IF(OR(G191=\"\",Q191=\"\"),\"\",G191*Q191)","v":""}]
[{"$f":"IF(B192=\"\",\"\",ROW()-1)","v":""},{"$nulls":8},{"$f":"IF(H192=\"\",\"\",H192-TODAY())","v":""},{"$nulls":3},{"$f":"IF(OR(L192<>\"Sim\",G192=\"\",M192=\"\"),\"\",G192*M192)","v":""},{"$nulls":3},{"$f":"IF(OR(G192=\"\",Q192=\"\"),\"\",G192*Q192)","v":""}]
[{"$f":"IF(B193=\"\",\"\",ROW()-1)","v":""},{"$nulls":8},{"$f":"IF(H193=\"\",\"\",H193-TODAY())","v":""},{"$nulls":3},{"$f":"IF(OR(L193<>\"Sim\",G193=\"\",M193=\"\"),\"\",G193*M193)","v":""},{"$nulls":3},{"$f":"IF(OR(G193=\"\",Q193=\"\"),\"\",G193*Q193)","v":""}]
[{"$f":"IF(B194=\"\",\"\",ROW()-1)","v":""},{"$nulls":8},{"$f":"IF(H194=\"\",\"\",H194-TODAY())","v":""},{"$nulls":3},{"$f":"IF(OR(L194<>\"Sim\",G194=\"\",M194=\"\"),\"\",G194*M194)","v":""},{"$nulls":3},{"$f":"IF(OR(G194=\"\",Q194=\"\"),\"\",G194*Q194)","v":""}]
[{"$f":"IF(B195=\"\",\"\",ROW()-1)","v":""},{"$nulls":8},{"$f":"IF(H195=\"\",\"\",H195-TODAY())","v":""},{"$nulls":3},{"$f":"IF(OR(L195<>\"Sim\",G195=\"\",M195=\"\"),\"\",G195*M195)","v":""},{"$nulls":3},{"$f":"IF(OR(G195=\"\",Q195=\"\"),\"\",G195*Q195)","v":""}]
[{"$f":"IF(B196=\"\",\"\",ROW()-1)","v":""},{"$nulls":8},{"$f":"IF(H196=\"\",\"\",H196-TODAY())","v":""},{"$nulls":3},{"$f":"IF(OR(L196<>\"Sim\",G196=\"\",M196=\"\"),\"\",G196*M196)","v":""},{"$nulls":3},{"$f":"IF(OR(G196=\"\",Q196=\"\"),\"\",G196*Q196)","v":""}]
[{"$f":"IF(B197=\"\",\"\",ROW()-1)","v":""},{"$nulls":8},{"$f":"IF(H197=\"\",\"\",H197-TODAY())","v":""},{"$nulls":3},{"$f":"IF(OR(L197<>\"Sim\",G197=\"\",M197=\"\"),\"\",G197*M197)","v":""},{"$nulls":3},{"$f":"IF(OR(G197=\"\",Q197=\"\"),\"\",G197*Q197)","v":""}]
[{"$f":"IF(B198=\"\",\"\",ROW()-1)","v":""},{"$nulls":8},{"$f":"IF(H198=\"\",\"\",H198-TODAY())","v":""},{"$nulls":3},{"$f":"IF(OR(L198<>\"Sim\",G198=\"\",M198=\"\"),\"\",G198*M198)","v":""},{"$nulls":3},{"$f":"IF(OR(G198=\"\",Q198=\"\"),\"\",G198*Q198)","v":""}]
[{"$f":"IF(B199=\"\",\"\",ROW()-1)","v":""},{"$nulls":8},{"$f":"IF(H199=\"\",\"\",H199-TODAY())","v":""},{"$nulls":3},{"$f":"IF(OR(L199<>\"Sim\",G199=\"\",M199=\"\"),\"\",G199*M199)","v":""},{"$nulls":3},{"$f":"IF(OR(G199=\"\",Q199=\"\"),\"\",G199*Q199)","v":""}]
[{"$f":"IF(B200=\"\",\"\",ROW()-1)","v":""},{"$nulls":8},{"$f":"IF(H200=\"\",\"\",H200-TODAY())","v":""},{"$nulls":3},{"$f":"IF(OR(L200<>\"Sim\",G200=\"\",M200=\"\"),\"\",G200*M200)","v":""},{"$nulls":3},{"$f":"IF(OR(G200=\"\",Q200=\"\"),\"\",G200*Q200)","v":""}]
[{"$f":"IF(B201=\"\",\"\",ROW()-1)","v":""},{"$nulls":8},{"$f":"IF(H201=\"\",\"\",H201-TODAY())","v":""},{"$nulls":3},{"$f":"IF(OR(L201<>\"Sim\",G201=\"\",M201=\"\"),\"\",G201*M201)","v":""},{"$nulls":3},{"$f":"IF(OR(G201=\"\",Q201=\"\"),\"\",G201*Q201)","v":""}]

{"sheet":"Resumo","index":2,"n_rows":19,"n_cols":3,"rows_kept":19}
["Resumo das licitações"]
[]
["Status","Quantidade","Valor estimado (R$)"]
["Em análise",{"$f":"COUNTIF(Licitações!$K$2:$K$201,A4)","v":0},{"$f":"SUMIF(Licitações!$K$2:$K$201,A4,Licitações!$G$2:$G$201)","v":{"v":0,"d":"R$ 0.00"}}]
["Vou participar",{"$f":"COUNTIF(Licitações!$K$2:$K$201,A5)","v":1},{"$f":"SUMIF(Licitações!$K$2:$K$201,A5,Licitações!$G$2:$G$201)","v":{"v":850000,"d":"R$ 850,000.00"}}]
["Proposta enviada",{"$f":"COUNTIF(Licitações!$K$2:$K$201,A6)","v":0},{"$f":"SUMIF(Licitações!$K$2:$K$201,A6,Licitações!$G$2:$G$201)","v":{"v":0,"d":"R$ 0.00"}}]
["Em disputa",{"$f":"COUNTIF(Licitações!$K$2:$K$201,A7)","v":0},{"$f":"SUMIF(Licitações!$K$2:$K$201,A7,Licitações!$G$2:$G$201)","v":{"v":0,"d":"R$ 0.00"}}]
["Vencida",{"$f":"COUNTIF(Licitações!$K$2:$K$201,A8)","v":0},{"$f":"SUMIF(Licitações!$K$2:$K$201,A8,Licitações!$G$2:$G$201)","v":{"v":0,"d":"R$ 0.00"}}]
["Perdida",{"$f":"COUNTIF(Licitações!$K$2:$K$201,A9)","v":0},{"$f":"SUMIF(Licitações!$K$2:$K$201,A9,Licitações!$G$2:$G$201)","v":{"v":0,"d":"R$ 0.00"}}]
["Desistiu",{"$f":"COUNTIF(Licitações!$K$2:$K$201,A10)","v":0},{"$f":"SUMIF(Licitações!$K$2:$K$201,A10,Licitações!$G$2:$G$201)","v":{"v":0,"d":"R$ 0.00"}}]
["Cancelada",{"$f":"COUNTIF(Licitações!$K$2:$K$201,A11)","v":0},{"$f":"SUMIF(Licitações!$K$2:$K$201,A11,Licitações!$G$2:$G$201)","v":{"v":0,"d":"R$ 0.00"}}]
["Total",{"$f":"SUM(B4:B11)","v":1},{"$f":"SUM(C4:C11)","v":{"v":850000,"d":"R$ 850,000.00"}}]
[]
["Indicadores"]
["Taxa de vitória (vencidas / decididas)",{"$f":"IFERROR(B8/(B8+B9),0)","v":{"v":0,"d":"0.0%"}}]
["Aberturas nos próximos 7 dias",{"$f":"COUNTIFS(Licitações!$J$2:$J$201,\">=0\",Licitações!$J$2:$J$201,\"<=7\")","v":0}]
["Licitações que exigem garantia de proposta",{"$f":"COUNTIF(Licitações!$L$2:$L$201,\"Sim\")","v":1}]
["Total em garantias de proposta a contratar (R$)",{"$f":"SUMIFS(Licitações!$N$2:$N$201,Licitações!$K$2:$K$201,\"Vou participar\")","v":{"v":8500,"d":"R$ 8,500.00"}}]
["Total em garantias contratuais das vencidas (R$)",{"$f":"SUMIFS(Licitações!$R$2:$R$201,Licitações!$K$2:$K$201,\"Vencida\")","v":{"v":0,"d":"R$ 0.00"}}]

{"sheet":"Listas","index":3,"n_rows":9,"n_cols":4,"rows_kept":9,"hidden":true}
["Modalidade","Status","Sim/Não","Tipo de garantia"]
["Pregão eletrônico","Em análise","Sim","Seguro Garantia"]
["Pregão presencial","Vou participar","Não","Caução em dinheiro"]
["Concorrência","Proposta enviada",null,"Fiança bancária"]
["Dispensa","Em disputa",null,"Título da dívida pública"]
["Inexigibilidade","Vencida",null,"Não exigida"]
["Diálogo competitivo","Perdida"]
["Leilão","Desistiu"]
[null,"Cancelada"]